
BEGIN:VCALENDAR
VERSION:2.0
PRODID:-//Postdoctoral Society - ECPv6.15.20//NONSGML v1.0//EN
CALSCALE:GREGORIAN
METHOD:PUBLISH
X-ORIGINAL-URL:https://postdocsoc.trin.cam.ac.uk
X-WR-CALDESC:Events for Postdoctoral Society
REFRESH-INTERVAL;VALUE=DURATION:PT1H
X-Robots-Tag:noindex
X-PUBLISHED-TTL:PT1H
BEGIN:VTIMEZONE
TZID:Europe/London
BEGIN:DAYLIGHT
TZOFFSETFROM:+0000
TZOFFSETTO:+0100
TZNAME:BST
DTSTART:20250330T010000
END:DAYLIGHT
BEGIN:STANDARD
TZOFFSETFROM:+0100
TZOFFSETTO:+0000
TZNAME:GMT
DTSTART:20251026T010000
END:STANDARD
BEGIN:DAYLIGHT
TZOFFSETFROM:+0000
TZOFFSETTO:+0100
TZNAME:BST
DTSTART:20260329T010000
END:DAYLIGHT
BEGIN:STANDARD
TZOFFSETFROM:+0100
TZOFFSETTO:+0000
TZNAME:GMT
DTSTART:20261025T010000
END:STANDARD
BEGIN:DAYLIGHT
TZOFFSETFROM:+0000
TZOFFSETTO:+0100
TZNAME:BST
DTSTART:20270328T010000
END:DAYLIGHT
BEGIN:STANDARD
TZOFFSETFROM:+0100
TZOFFSETTO:+0000
TZNAME:GMT
DTSTART:20271031T010000
END:STANDARD
END:VTIMEZONE
BEGIN:VEVENT
DTSTART;TZID=Europe/London:20260201T150000
DTEND;TZID=Europe/London:20260201T160000
DTSTAMP:20260420T193616
CREATED:20251205T155949Z
LAST-MODIFIED:20251205T155949Z
UID:1511-1769958000-1769961600@postdocsoc.trin.cam.ac.uk
SUMMARY:Book Club
DESCRIPTION:Join our next book club\, where we will discuss 2025 Booker Prize-shortlisted “The Land in Winter” by Andrew Miller for our first book club session of the new year!
URL:https://postdocsoc.trin.cam.ac.uk/events/book-club/
LOCATION:Deighton Room\, Trinity College\, Cambridge
END:VEVENT
END:VCALENDAR